BEGIN:VCALENDAR
VERSION:2.0
PRODID:-//CPT Krško - ECPv6.6.4.2//NONSGML v1.0//EN
CALSCALE:GREGORIAN
METHOD:PUBLISH
X-WR-CALNAME:CPT Krško
X-ORIGINAL-URL:https://www.cptkrsko.si
X-WR-CALDESC:Events for CPT Krško
REFRESH-INTERVAL;VALUE=DURATION:PT1H
X-Robots-Tag:noindex
X-PUBLISHED-TTL:PT1H
BEGIN:VTIMEZONE
TZID:Europe/Ljubljana
BEGIN:DAYLIGHT
TZOFFSETFROM:+0100
TZOFFSETTO:+0200
TZNAME:CEST
DTSTART:20190331T010000
END:DAYLIGHT
BEGIN:STANDARD
TZOFFSETFROM:+0200
TZOFFSETTO:+0100
TZNAME:CET
DTSTART:20191027T010000
END:STANDARD
END:VTIMEZONE
BEGIN:VEVENT
DTSTART;TZID=Europe/Ljubljana:20190910T140000
DTEND;TZID=Europe/Ljubljana:20190910T180000
DTSTAMP:20260422T042506
CREATED:20190829T123454Z
LAST-MODIFIED:20190830T080757Z
UID:1743-1568124000-1568138400@www.cptkrsko.si
SUMMARY:Mednarodni gospodarski forum
DESCRIPTION:Vabimo vas\, da se nam pridružite na Mednarodnem gospodarskem forumu Slovenije\, Hrvaške\, Srbije in Črne gore\, poslovnem dogodku na letošnjem sejmu MOS. \nDogodek se bo odvijal v torek\, 10. septembra 2019\, s pričetkom ob 14. uri v Modri dvorani I\, (Celjski sejem d.d.\, Dečkova 1\, Celje). \nNamen foruma je prispevati k nadaljnji krepitvi gospodarskega sodelovanja ter podjetniškega povezovanja na območju nekdanjega skupnega tržišča. \nForum bo odlična priložnost za poslovno mreženje in pridobivanje novih informacij! Vljudno vabljeni! \nProgram:\n13.45 Prihod in Registracija \n14.00 Splošni – predstavitveni del \n\nAnaliza gospodarskega stanja Slovenije\, Hrvaške\, Srbije in Črne gore\nPredstavitev države partnerice 52. MOS Črne gore – Privredna komora Crne Gore\nVpliv digitalizacije na poslovanje MSP-jev in priložnosti s predstavitvijo primera dobre prakse “E commerce” hrvaške platforme za podporo pri prodaji izdelkov in storitev MSP-jev – Obrtnička komora Zagreb.\n\n15.45. Okrogla miza “Priložnosti poslovanja na trgih nekdanje skupne države (podjetniki vseh štirih držav) \n17.00 Mreženje ob prigrizku
URL:https://www.cptkrsko.si/dogodek/mednarodni-gospodarski-forum/
LOCATION:mednarodni sejem obrti in podjetništva\, Dečkova 1\, Celje
CATEGORIES:Delavnice
ATTACH;FMTTYPE=image/jpeg:https://www.cptkrsko.si/wp-content/uploads/rsz_1internacionalizacija-liroka.jpg
ORGANIZER;CN="OOZ Kr%C5%A1ko":MAILTO:janja.starc@ozs.si
END:VEVENT
BEGIN:VEVENT
DTSTART;TZID=Europe/Ljubljana:20190906T090000
DTEND;TZID=Europe/Ljubljana:20190906T120000
DTSTAMP:20260422T042506
CREATED:20190826T101857Z
LAST-MODIFIED:20190829T103705Z
UID:1715-1567760400-1567771200@www.cptkrsko.si
SUMMARY:Razpis Krepitev trženja blagovnih znamk na tujih trgih prek showroomov v tujini – informativni dan
DESCRIPTION:Vabimo vas na informativni dan\, na katerem bo predstavljen javni razpis »KREPITEV TRŽENJA BLAGOVNIH ZNAMK NA TUJIH TRGIH PREK SHOWROOMOV V TUJINI«. \nInformativni dan bo potekal v petek\, 6.9.2019 v prostorih SPOT svetovanje regija Jugovzhodna Slovenija Podjetniškega inkubatorja Podbreznik\, Podbreznik 15\, 8000 Novo mesto s pričetkom ob 9. uri. \nPOMEMBNO: Informativni dan bodo izpeljali zgolj v Ljubljani in sicer so za vprašanja in pojasnila glede razpisa na voljo v četrtek\, 6. septembra ob 10. uri na sedežu Javne agencije SPIRIT Slovenija v Ljubljani. \nVabljeni !
URL:https://www.cptkrsko.si/dogodek/razpis-krepitev-trzenja-blagovnih-znamk-na-tujih-trgih-prek-showroomov-v-tujini-informativni-dan/
LOCATION:Javna agencija Spirit\, Verovškova ulica 60\, Ljubljana\, Slovenija
END:VEVENT
BEGIN:VEVENT
DTSTART;TZID=Europe/Ljubljana:20190621T083000
DTEND;TZID=Europe/Ljubljana:20190621T113000
DTSTAMP:20260422T042506
CREATED:20190613T071250Z
LAST-MODIFIED:20190613T082610Z
UID:1491-1561105800-1561116600@www.cptkrsko.si
SUMMARY:Poslovni zajtrk SLO CRO Poslovnega kluba - razgovor s slovenskim in hrvaškim gospodarskim ministrom
DESCRIPTION:Vabimo vas na poslovni zajtrk v okviru katerega bo potekal razgovor s slovenskim in hrvaškim gospodarskim ministrom\,\nki bo v petek\, 21. junija 2019\, s pričetkom ob 9. uri\n(zbor udeležencev in registracija ob 8.30) na Gradu Mokrice. \nGosta poslovnega zajtrka sta: \ng. Zdravko Počivalšek\, minister za gospodarski razvoj in tehnologijo R Slovenije\ng. Darko Horvat\, minister za gospodarstvo\, obrt in podjetništvo R Hrvaške\n \nVzporedno bo potekalo tudi prvo uradno bilateralno srečanje obeh ministrov. \nProgram:\n– razgovor z ministrom Počivalškom in ministrom Horvatom\n– neformalno srečanje in druženje z ministroma\n– mreženje \nDogodek čezmejnega povezovanja poteka v okviru točke SPOT Posavje in je brezplačen. \nProsimo vas za potrditev prijave\, najkasneje do srede\, 19. junija 2019 (prijavo potrdite na e-naslov: janja.starc@ozs.si ali info@cptkrsko.si).\nUdeležba na dogodku brez predhodne prijave ne bo mogoča. \nVljudno vabljeni na pomemben dogodek gospodarskega sodelovanja Slovenije in Hrvaške\, ki se bo odvijal v Posavju.
URL:https://www.cptkrsko.si/dogodek/poslovni-zajtrk-slo-cro-poslovnega-kluba-razgovor-s-slovenskim-in-hrvaskim-gospodarskim-ministrom/
LOCATION:Grad Mokrice\, Rajec 4\, Jesenice na Dolenjskem\, Slovenija
CATEGORIES:Delavnice
ATTACH;FMTTYPE=image/jpeg:https://www.cptkrsko.si/wp-content/uploads/images.jpg
ORGANIZER;CN="OOZ Kr%C5%A1ko":MAILTO:janja.starc@ozs.si
END:VEVENT
BEGIN:VEVENT
DTSTART;TZID=Europe/Ljubljana:20190618T090000
DTEND;TZID=Europe/Ljubljana:20190618T123000
DTSTAMP:20260422T042506
CREATED:20190605T111840Z
LAST-MODIFIED:20190605T122858Z
UID:1477-1560848400-1560861000@www.cptkrsko.si
SUMMARY:Delavnica "Ko vas obišče davčni inšpektor"
DESCRIPTION:Vsebina: \nPoudarek je na postopkovnih zadevah\, ki bodo pripomogle k boljšemu sodelovanju med inšpekcijo in podjetniki\, razlike med postopki\, pravice in dolžnosti podjetnikov\, najpogostejše kršitve\, opozorilo na nepravilnosti\, ki se opažajo\,… \nNa delavnici bosta predavali: \n\n mag. JERNEJA DRAGAN\, vodja oddelka za finančni nadzor na Finančnem uradu Novo mesto in\n ANDREJA BRINC\, vodja oddelka za finančni nadzor na Finančnem uradu Novo mesto\n\nDelavnica je namenjena ciljni skupini naslednjih udeležencev: obstoječa podjetja in podjetniki iz regije Posavje\, potencialni podjetniki iz regije Posavje ter vsi\, ki jih zanima opravljanje samostojne dejavnosti in področje podjetništva.  \nUdeležba na delavnici je brezplačna in dostopna vsem\, ki se boste na delavnico prijavili (brez prijave udeležba ne bo možna!). Gradivo prejmete pred pričetkom delavnice. \n PRIJAVE sprejemamo v pisarni OOZ Brežice (Slavica Kostevc\, tel. 49-92-270\, mob. 051/427-911 ali po e-pošti slavica.kostevc@ozs.si) oz.  na sedežu CPT Krško (tel.: 07/ 49-02-220 ali po e-pošti  info@cptkrsko.si)\, do vključno torka\, 11. junija 2019 oz. do zasedbe prostih mest.
URL:https://www.cptkrsko.si/dogodek/delavnica-ko-vas-obisce-davcni-inspektor/
LOCATION:Mesta hiša Brežice\, Cesta prvih borcev 22\, Brežice\, Slovenija
CATEGORIES:Delavnice
ATTACH;FMTTYPE=image/jpeg:https://www.cptkrsko.si/wp-content/uploads/KoObišče-delovni-inšpektor_5apr_2.jpg
END:VEVENT
BEGIN:VEVENT
DTSTART;TZID=Europe/Ljubljana:20190515T080000
DTEND;TZID=Europe/Ljubljana:20190515T140000
DTSTAMP:20260422T042506
CREATED:20190508T085153Z
LAST-MODIFIED:20190510T111355Z
UID:1340-1557907200-1557928800@www.cptkrsko.si
SUMMARY:POSLOVNO SREČANJE SLOVENSKEGA IN HRVAŠKEGA PODJETNIŠTVA  S PRIMERI DOBRE PRAKSE
DESCRIPTION:V sklopu aktivnosti na področju izmenjav dobrih praks in odpiranja poslovnih priložnosti\, v okviru točke SPOT svetovanje Posavje ter z namenom prikaza primerov dobre prakse v regiji in čezmejno\, vas vljudno vabimo na ogled dobrih praks in druženje podjetnikov z obeh strani meje. \nOpis programa: \n800   Zbor udeležencev in prvi del poslovnega srečanja (Mestna hiša Brežice\, CPB 22\, Brežice)\n915    Odhod na prvi ogled primera dobre prakse\n930 – 1030 Ogled obratovalnice in predstavitev v svetovnem merilu uspešnega proizvodnega podjetja\n(KOVIS\, proizvodna družba d.o.o\, Brezina 102\, Brežice) \n1030    Odhod na drugi ogled primera dobre prakse\n1045 – 1130  Ogled obratovalnice in predstavitev družinskega trgovskega podjetja\n(KMETIJSKA TRGOVINA CERJAK BROD POLONA S.P.\, Bukošek 69\, Brežice) \n1130    Odhod na tretji ogled primera dobre prakse\n1200 – 1230   Ogled obratovalnice in predstavitev podjetnice z gostinsko in nastanitveno dejavnostjo\n(GOSTILNA IN PRENOČIŠČE »KOCJAN« – IVANKA KOCJAN S.P.\, Stara vas-Bizeljsko 63\, Bizeljsko)\n1230 – 1400   Zaključek s pogostitvijo\n \nPoslovno srečanje je namenjeno: vsem obstoječim podjetnikom iz regije Posavje\, potencialnim podjetnikom iz regije Posavje ter vsem\, ki jih zanima opravljanje samostojne dejavnosti in področje podjetništva \nPRIJAVE sprejemamo v pisarni OOZ Brežice (Slavica Kostevc\, tel. 49-92-270\, mob. 051/427-911 ali po e-pošti slavica.kostevc@ozs.si) oz. na sedežu CPT Krško (tel.: 07/ 49-02-220 ali po e-pošti  info@cptkrsko.si)\, do vključno ponedeljka\, 13. maja 2019 oz. do zasedbe prostih mest. \nVljudno vabljeni! \n \nNaložbo sofinancirata Republika Slovenija in Evropska unija iz Evropskega sklada za regionalni razvoj
URL:https://www.cptkrsko.si/dogodek/poslovno-srecanje-slovenskega-in-hrvaskega-podjetnistva-s-primeri-dobre-prakse/
LOCATION:Mesta hiša Brežice\, Cesta prvih borcev 22\, Brežice\, Slovenija
CATEGORIES:Delavnice
ATTACH;FMTTYPE=image/jpeg:https://www.cptkrsko.si/wp-content/uploads/Srečanjeprenos-1-e1557305372547.jpg
ORGANIZER;CN="CPT Kr%C5%A1ko - SPOT Posavje":MAILTO:mateja.jurecic@cptkrsko.si
END:VEVENT
END:VCALENDAR