BEGIN:VCALENDAR
VERSION:2.0
PRODID:-//CPT Krško - ECPv6.6.4.2//NONSGML v1.0//EN
CALSCALE:GREGORIAN
METHOD:PUBLISH
X-ORIGINAL-URL:https://www.cptkrsko.si
X-WR-CALDESC:Events for CPT Krško
REFRESH-INTERVAL;VALUE=DURATION:PT1H
X-Robots-Tag:noindex
X-PUBLISHED-TTL:PT1H
BEGIN:VTIMEZONE
TZID:Europe/Ljubljana
BEGIN:DAYLIGHT
TZOFFSETFROM:+0100
TZOFFSETTO:+0200
TZNAME:CEST
DTSTART:20240331T010000
END:DAYLIGHT
BEGIN:STANDARD
TZOFFSETFROM:+0200
TZOFFSETTO:+0100
TZNAME:CET
DTSTART:20241027T010000
END:STANDARD
END:VTIMEZONE
BEGIN:VEVENT
DTSTART;TZID=Europe/Ljubljana:20240214T140000
DTEND;TZID=Europe/Ljubljana:20240214T160000
DTSTAMP:20260422T041000
CREATED:20231201T073047Z
LAST-MODIFIED:20240207T160830Z
UID:7571-1707919200-1707926400@www.cptkrsko.si
SUMMARY:SalesBooster Framework (Pospeševanje prodaje)
DESCRIPTION:V sklopu rednih aktivnosti Podjetniškega inkubatorja Krško vas vabimo na 4 uro delavnico \nSalesBooster Framework\n(Pospeševanje prodaje)\n  \nv sredo\, 14. FEBRUARJA 2024\, od 14.00 do 16.00 ure  \nv sredo\, 21. FEBRUARJA 2024\, od 14.00 do 16.00 ure  \n  \nCilj SalesBooster Framework skupinskega programa je pomagati Startupom vzpostaviti osnovni sales framework ter začrtati svoj personaliziran prodajni proces za učinkovitejšo prodajo. \nVsebina SalesBooster Framework programa:\nNa dveh srečanjih bomo obdelali prvi dve fazi vzpostavitve prodajnega okvirja. Dotaknili se bomo tudi osnov tretje faze in vsebine korakov\, ki so ključni za vzpostavitev delovanja celovitega Sales Frameworka. \n1.      Pozicioniranje za rast dobička (Positioning for Profit) \n\nPonudba vrednosti (Value Proposition): Naučite se\, kako oblikovati privlačno “ponudbo vrednosti” in razumeti\, zakaj bi kupci potrebovali vaše izdelke ali storitve in kaj vas loči od vaše konkurence in kater njihov problem\, dejnsko rešujete.\nIdelani profil stranke (Dream Customer\, Ideal Customer Profile): Odkrijte\, kako definirati vaše sanjske stranke\, ustvarite profil idealnega kupca in ne izgubljate časa in denarja za “spray&pray” pristop.\nVloga čustev pri nakupu (Emotions in Sales): Definirajte in naslovite vlogo čustev v procesu prodaje (tips&tricks).\n\n2.      Marketing za rast in širitev (Marketing for Growth) \n\nStrateško Targetiranje in asinhrona ter sinhrona komunikacija: Strateško ciljanje in asinhrona ter sinhrona komunikacija: Načrtujte\, kako targetirati primerne kupce in obvladati vsakršno komunikacijo v realnem času za rast in skalabilnost (inbound\, outbound\, partnership)\n\n3.      Izvedba in širitev (Execution for Scale) – osnovni pregled \n\nOsnove prodajnega procesa\, Prodajni lijak in poročila: Spremljanje podatkov in osnovno upravljanje prodajnega lijaka: Spoznajte\, kako učinkovito spremljati prodajne rezultate ter upravljati osnovni prodajni lijak za trajno rast in uspeh.\n\nTermin izvedbe in lokacija:  \n\nPrvi del: sreda\, 14. februarja\nDrugi del: sreda\, 21. februarja\nČas izvedbe: od 14.00 do 16.00 ure\nLokacija: Podjetniški inkubator Krško\n\nO izvajalki: \nPetra Wagner ima več kot 20 let izkušenj na področju prodaje in vodilnih vlog v IT industriji sem izpopolnila učinkovite metode in strategije za povečanje prodaje\, dobičkonosnosti ter za ustvarjanje visoko uspešnih ekip. Redno sem dosegala in presegala prodajne cilje\, tako individualne kot tudi na vodilnih položajih v priznanih organizacijah\, kot so IBM in Microsoft. \nPoleg korporativnih izkušenj sem razširila svoj profesionalni portfelj. Trenutno delujem kot poslovno in prodajno svetovanje za startupe\, ter kot svetovalka za prodajo in poslovanje. \nV svoji karieri sem delovala tudi kot Pooblaščenka uprave za digitalno prodajo\, informatiko in digitalno transformacijo v Mladinski knjigi. V največjem založniškem podjetju\, sem pridobila dragocene vpoglede v industrijo založništva\, maloprodajo\, veleprodajo ter v sprejemanje odločitev na najvišjih ravneh. \nZavedajoč se pomembnosti doseganja prodajnih rezultatov ob ohranjanju ter venomer prisotnega stresa ljudi\, ki jim prodaja na prvo žogo ni všeč\, sem razvila program “Sales Booster Kick Start.” Ta program ponuja sistematičen pristop in preverjene metode za hitro povečanje prodaje ter omilitev stresa\, povezanega s stalnimi zahtevami prodaje \nBrezplačni dogodek bo potekal v dveh delih s predhodno prijavo. \nProsimo za pravočasne prijave na e-naslov: karl.vertovsek@cptkrsko.si  – najkasneje do 13. februarja 2023 (sporočite ime\, priimek\, naslov in telefon). Prijave sprejemamo do zapolnitve razpoložljivih mest. \nVljudno vabljeni! \n  \n 
URL:https://www.cptkrsko.si/dogodek/salesbooster-framework-pospesevanje-prodaje-2/
LOCATION:Podjetniški inkubator Krško\, Cesta krških žrtev 44\, Krško
CATEGORIES:Aktualno,Delavnice,Poslovne piložnosti,Primeri dobrih praks,Usposabljanje
ATTACH;FMTTYPE=image/jpeg:https://www.cptkrsko.si/wp-content/uploads/Naslovna-cpt-1-scaled.jpg
ORGANIZER;CN="Podjetni%C5%A1ki inkubator Kr%C5%A1ko":MAILTO:inkubator@cptkrsko.si
END:VEVENT
END:VCALENDAR