BEGIN:VCALENDAR
VERSION:2.0
PRODID:-//CPT Krško - ECPv6.6.4.2//NONSGML v1.0//EN
CALSCALE:GREGORIAN
METHOD:PUBLISH
X-WR-CALNAME:CPT Krško
X-ORIGINAL-URL:https://www.cptkrsko.si
X-WR-CALDESC:Events for CPT Krško
REFRESH-INTERVAL;VALUE=DURATION:PT1H
X-Robots-Tag:noindex
X-PUBLISHED-TTL:PT1H
BEGIN:VTIMEZONE
TZID:Europe/Ljubljana
BEGIN:DAYLIGHT
TZOFFSETFROM:+0100
TZOFFSETTO:+0200
TZNAME:CEST
DTSTART:20240331T010000
END:DAYLIGHT
BEGIN:STANDARD
TZOFFSETFROM:+0200
TZOFFSETTO:+0100
TZNAME:CET
DTSTART:20241027T010000
END:STANDARD
END:VTIMEZONE
BEGIN:VEVENT
DTSTART;TZID=Europe/Ljubljana:20240124T130000
DTEND;TZID=Europe/Ljubljana:20240124T160000
DTSTAMP:20260422T024458
CREATED:20240115T124544Z
LAST-MODIFIED:20240115T132536Z
UID:7994-1706101200-1706112000@www.cptkrsko.si
SUMMARY:Uporaba Chat GPT
DESCRIPTION:V sklopu rednih aktivnosti Podjetniškega inkubatorja Krško vas vabimo na 3 uro zaokroženo delavnico \nUporaba Chat GPT \nv sredo\, 24. JANUARJA 2024\, od 13.00 do 16.00 ure  \nBi radi s Chat GPT postali bolj produktivni tako na delu kot pri opravljanju vsakodnevnih aktivnosti in v prostem času? Zdaj imate priložnost\, da se naučite\, kako ga učinkovito uporabljati\, ter ugotovite\, kako zelo vsestransko orodje je ChatGPT\nOPIS DOGODKA : \nNa zaokroženi delavnici boste prejeli odgovore na vsa pomembna vprašanja o tem\, kako deluje Chat GPT\, kakšne so njegove prednosti in omejitve. Dogodek bo podkrepljen s številnimi praktičnimi primeri\, ki so posebej prilagojeni vsaki skupini slušateljev. \nGlavne tematike: \n\nKaj je Chat GPT in kako deluje\nKakšne so omejitve Chat GPT\nNapredna orodja znotraj Chat GPT\nAnaliza dokumentov s Chat GPT\nAnaliza podatkov s Chat GPT\nProcesi znotraj podjetja\nLastni GPTji – kako ga naredimo in kako uporabljamo\nOrodja\, ki nadgradijo Chat GPT\n\nTermin izvedbe in lokacija v ŽIVO:  \n\nV živo: sreda\, 24. januarja\nČas izvedbe: od 13.00 do 16.00 ure\nLokacija: Podjetniški inkubator Krško\n\nO izvajalcu: Peter Mesarec je strokovnjak spletnega marketinga\, ki je marketing videl skozi oči agencije (Red Orbit)\, bil je in-house marketingar in vodil lastna podjetja. Tako govori tri različne jezike marketinga in razume prednosti in omejitve\, s katerimi se srečujete pri delu. \nMnogim podjetjem je pomagal pri pripravi vstopa na tuje trge in izvedbi marketinških akcij ob vstopu na tuje trge. \nV zadnjem letu je verjetno najbolj poslušan predavatelj Chat GPT in AI\, podjetjem pomaga pri implementaciji Chat GPT v procese in izobražuje zaposlene o tem\, kako lahko pohitrijo svoje delo z uporabo Chat GPT. \nBrezplačni dogodek bo potekal s predhodno prijavo.  \nProsimo za pravočasne prijave na e-naslov: karl.vertovsek@cptkrsko.si  – najkasneje do 22. januarja (sporočite ime\, priimek\, naslov in telefon). Prijave sprejemamo do zapolnitve razpoložljivih mest. \nVljudno vabljeni! \n  \n 
URL:https://www.cptkrsko.si/dogodek/uporaba-chat-gpt/
LOCATION:Podjetniški inkubator Krško\, Cesta krških žrtev 44\, Krško
CATEGORIES:Aktualno,Delavnice,Poslovne piložnosti,Primeri dobrih praks,Usposabljanje
ATTACH;FMTTYPE=image/png:https://www.cptkrsko.si/wp-content/uploads/Naslovna-spletna-1.png
ORGANIZER;CN="Podjetni%C5%A1ki inkubator Kr%C5%A1ko":MAILTO:inkubator@cptkrsko.si
END:VEVENT
END:VCALENDAR