BEGIN:VCALENDAR
VERSION:2.0
PRODID:-//CPT Krško - ECPv6.6.4.2//NONSGML v1.0//EN
CALSCALE:GREGORIAN
METHOD:PUBLISH
X-WR-CALNAME:CPT Krško
X-ORIGINAL-URL:https://www.cptkrsko.si
X-WR-CALDESC:Events for CPT Krško
REFRESH-INTERVAL;VALUE=DURATION:PT1H
X-Robots-Tag:noindex
X-PUBLISHED-TTL:PT1H
BEGIN:VTIMEZONE
TZID:Europe/Ljubljana
BEGIN:DAYLIGHT
TZOFFSETFROM:+0100
TZOFFSETTO:+0200
TZNAME:CEST
DTSTART:20230326T010000
END:DAYLIGHT
BEGIN:STANDARD
TZOFFSETFROM:+0200
TZOFFSETTO:+0100
TZNAME:CET
DTSTART:20231029T010000
END:STANDARD
END:VTIMEZONE
BEGIN:VEVENT
DTSTART;TZID=Europe/Ljubljana:20230228T090000
DTEND;TZID=Europe/Ljubljana:20230228T110000
DTSTAMP:20260421T151537
CREATED:20230210T112450Z
LAST-MODIFIED:20230214T112659Z
UID:6517-1677574800-1677582000@www.cptkrsko.si
SUMMARY:Digitalizacija poslovanja
DESCRIPTION:V sklopu rednih aktivnosti Podjetniškega inkubatorja Krško\, izvajamo različne izobraževalne vsebine. \nVabimo vas\, da se nam pridružite na brezplačnem in zelo aktualnem predavanju\nDigitalizacija poslovanja\nv torek\, 28. februarja\, s pričetkom ob 9. uri v prostorih Podjetniškega inkubatorja Krško\nRazmišljaj digitalno \nGovorili bomo o tem\, kaj digitalizacija v podjetju sploh pomeni\, kakšne dodane vrednosti prinaša\, opozorili na mogoče pasti ter definirali prvi korak na tej poti.\nIz prve roke boste lahko izvedeli za različne informacijske rešitve\, ki jih uvajajo podjetja za lažje ter predvsem bolj učinkovito poslovanje. Spoznali boste razliko med digitalizacijo in digitalno preobrazbo. \nPredavanje bo vodil predstavnik podjetja Tom PIT\, ki je edini ponudnik na tržišču z lastno tehnologijo\, celotno paleto digitalnih vsebin\, svojim podatkovnim centrom in nudi vrsto ekspertnih znanj in digitalnih storitev. Svojim strankam zagotavlja\, da lahko z enim partnerjem naredijo celoten življenjski cikel digitalne preobrazbe – Zasnova\, implementacija\, raba in vzdrževanje. \nTom PIT danes sodeluje s podjetji vseh velikost. Med večjimi strankami so Krka\, Ljubljanske mlekarne\, Energetika Ljubljana\, LIP BLED\, Plastika Skaza in še mnogi drugi. \nNa kratko o predavatelju: \n \nVid Prodan prihaja iz podjetja Tom PIT. Ima 7 let izkušenj iz implementacije različnih informacijskih rešitev v podjetja. Danes temu rečemo digitalna preobrazba.\nV podjetju je prodajni svetovalec. Dobro pozna probleme s katerimi se soočajo današnja podjetja hkrati pa jih povezuje z najbolj optimalnimi rešitvami\, ki so na voljo. \nSvoj poklic jemlje kot poslanstvo\, ki mu omogoča svojo najljubšo dejavnost – pomagati drugim\, preseliti tudi v poslovno okolje.\nV svojem prostem času veliko teče ter je zagret numizmatik. \nVabljeni k prijavi na brezplačni dogodek\, ki bo potekal v ŽIVO\, v prostorih Podjetniškega inkubatorja Krško.\nIzpolnite spodnji obrazec.\n\n\n  \n\n\n\n\n\n\n\n\n\n\n Ime in priimek:\n \n \n Vaš GSM:\n\n \n Vaš E-naslov:\n \n \n Organizacija - podjetje:\n\n \nStrinjam se s politiko varovanja osebnih podatkov CPT Krško in dovoljujem Podjetniškemu inkubatorju Krško\, da moje podatke uporablja za namene pošiljanja e-novic in vabil na njihove dogodke.\n \n\n ×
URL:https://www.cptkrsko.si/dogodek/digitalizacija-poslovanja/
LOCATION:Podjetniški inkubator Krško\, Cesta krških žrtev 44\, Krško
CATEGORIES:Aktualno,Delavnice,Neformalno druženje
ATTACH;FMTTYPE=image/jpeg:https://www.cptkrsko.si/wp-content/uploads/Naslovna-fotka1-scaled.jpg
ORGANIZER;CN="Podjetni%C5%A1ki inkubator Kr%C5%A1ko":MAILTO:inkubator@cptkrsko.si
END:VEVENT
END:VCALENDAR