BEGIN:VCALENDAR
VERSION:2.0
PRODID:-//CPT Krško - ECPv6.6.4.2//NONSGML v1.0//EN
CALSCALE:GREGORIAN
METHOD:PUBLISH
X-WR-CALNAME:CPT Krško
X-ORIGINAL-URL:https://www.cptkrsko.si
X-WR-CALDESC:Events for CPT Krško
REFRESH-INTERVAL;VALUE=DURATION:PT1H
X-Robots-Tag:noindex
X-PUBLISHED-TTL:PT1H
BEGIN:VTIMEZONE
TZID:Europe/Ljubljana
BEGIN:DAYLIGHT
TZOFFSETFROM:+0100
TZOFFSETTO:+0200
TZNAME:CEST
DTSTART:20220327T010000
END:DAYLIGHT
BEGIN:STANDARD
TZOFFSETFROM:+0200
TZOFFSETTO:+0100
TZNAME:CET
DTSTART:20221030T010000
END:STANDARD
END:VTIMEZONE
BEGIN:VEVENT
DTSTART;TZID=Europe/Ljubljana:20221222T170000
DTEND;TZID=Europe/Ljubljana:20221222T170000
DTSTAMP:20260421T211310
CREATED:20221215T134855Z
LAST-MODIFIED:20221216T103244Z
UID:6428-1671728400-1671728400@www.cptkrsko.si
SUMMARY:Natečaj za naj podjetniško idejo in predstavitev lokalnih projektov
DESCRIPTION:VZPOREDNA DEJAVNOST NA DOGODKU 22. 12. 2022 OB 18. URI – PREDSTAVITEV LOKALNIH INICIATIV\, ORGANIZACIJ\, PODJETIJ IN INOVACIJ \n\nOrganizator natečaja je KŠTM Sevnica\, v partnerstvu z občino Sevnica in Centrom za podjetništvo in turizem Krško.\nNatečaj bo potekal ob času in kraju\, ki ga določi organizator in bo v celoti objavljen ter ažuriran na spletni strani www.kstm.si.\nPrijave na natečaj se zbirajo do 13. 12. 2022.\nIzbor za najboljšo idejo bo 22. 12. 2022 ob 17. uri na gradu Sevnica.\nNamen natečaja je motivirati posameznike in ekipe\, da svojo idejo predstavijo širši publiki ter da se s tem definirajo inovativne podjetniške ideje\, startupi ali že razvita in inovativna podjetja v regiji.\n\nNa dan 22. 12. 2022 bo v atriju gradu Sevnica potekala predstavitev lokalnih iniciativ. Poleg tega bomo izbrali tudi 10 najbolj prodornih ekip v regiji\, ki se bodo lahko predstavile na stojnici v atriju gradu Sevnica\, kjer bo potekala pogostitev po zaključku in izboru naj podjetniške ideje na odru v Felicijanovi dvorani. Pogostitev in predstavitev lokalnih iniciativ bo potekala od 18. ure do največ 20. ure. \nVeč informacij o dogodku: https://www.kstm.si/nateaj-za-naj-podjetniko-idejo-in-predstavitev-lokalnih-projektov-2022.html \n \nNaložbo sofinancirata Republika Slovenija in Evropska unija iz Evropskega sklada za regionalni razvoj
URL:https://www.cptkrsko.si/dogodek/natecaj-za-naj-podjetnisko-idejo-in-predstavitev-lokalnih-projektov/
CATEGORIES:Aktualno,Delavnice
ATTACH;FMTTYPE=image/jpeg:https://www.cptkrsko.si/wp-content/uploads/Natecaj-ideje-2.jpg
ORGANIZER;CN="CPT Kr%C5%A1ko":MAILTO:mateja.jurecic@cptkrsko.si
END:VEVENT
END:VCALENDAR