BEGIN:VCALENDAR
VERSION:2.0
PRODID:-//CPT Krško - ECPv6.6.4.2//NONSGML v1.0//EN
CALSCALE:GREGORIAN
METHOD:PUBLISH
X-ORIGINAL-URL:https://www.cptkrsko.si
X-WR-CALDESC:Events for CPT Krško
REFRESH-INTERVAL;VALUE=DURATION:PT1H
X-Robots-Tag:noindex
X-PUBLISHED-TTL:PT1H
BEGIN:VTIMEZONE
TZID:Europe/Ljubljana
BEGIN:DAYLIGHT
TZOFFSETFROM:+0100
TZOFFSETTO:+0200
TZNAME:CEST
DTSTART:20220327T010000
END:DAYLIGHT
BEGIN:STANDARD
TZOFFSETFROM:+0200
TZOFFSETTO:+0100
TZNAME:CET
DTSTART:20221030T010000
END:STANDARD
END:VTIMEZONE
BEGIN:VEVENT
DTSTART;TZID=Europe/Ljubljana:20221215T120000
DTEND;TZID=Europe/Ljubljana:20221215T150000
DTSTAMP:20260421T210934
CREATED:20221209T111506Z
LAST-MODIFIED:20221209T113924Z
UID:6389-1671105600-1671116400@www.cptkrsko.si
SUMMARY:Spletna delavnica "Optimizacija davčne osnove in davčne novosti"
DESCRIPTION:V sklopu aktivnosti na področju izvajanja celovitih podpornih storitev za potencialne podjetnike in podjetja v okviru Slovenskih poslovnih točk za obdobje od 2018 do 2022\, v organizaciji SPOT svetovanje Posavje – CPT Krško in izvajalca OOZ Krško\, vas vljudno vabimo na brezplačno spletno delavnico  \nOPTIMIZACIJA DAVČNE OSNOVE IN DAVČNE NOVOSTI\,\n\nki bo potekala\nv četrtek 15.12\, s pričetkom ob 12. uri.\nVsebina:  \n\ndavčne novosti\,\nobdavčitev kapitala\,\noptimizacija davčne osnove\,\nkaj vse je potrebno postoriti pred zaključkom davčnega leta.\n\nPredavateljica: Marija TOMC MUC\, izkušena davčna svetovalka in predavateljica. Predavanja bodo temeljila predvsem na primerih iz prakse in najpogostejših poslovnih dogodkih ter podrobnejša predstavitev davčnih novosti. \nUdeležba na delavnici je brezplačna in dostopna vsem\, ki se boste na delavnico prijavili\, prvenstveno je namenjena MSP-jem. \nUsposabljanje bo izvedeno v virtualni obliki\, zato prosimo udeležence k OBVEZNI elektronski prijavi preko e-pošte\, ki jo pošljete na naslov: janja.starc@ozs.si ali na CPT Krško mateja.jurecic@cptkrsko.si\, karmen.levak@cptkrsko.si. Prijave sprejemamo do vključno torka\, 13. decembra 2022 oz. do zasedbe omejenega števila udeležencev. \nVsi prijavljeni boste po e-pošti prejeli gradivo v e-obliki in povezavo na spletno usposabljanje preko katere se boste pridružili dogodku. \nVljudno vabljeni! \n \nNaložbo sofinancirata Republika Slovenija in Evropska unija iz Evropskega sklada za regionalni razvoj
URL:https://www.cptkrsko.si/dogodek/spletna-delavnica-optimizacija-davcne-osnove-in-davcne-novosti/
CATEGORIES:Aktualno,Delavnice,Primeri dobrih praks,Usposabljanje
ATTACH;FMTTYPE=image/jpeg:https://www.cptkrsko.si/wp-content/uploads/rsz_savings-2789137_1280.jpg
ORGANIZER;CN="CPT Kr%C5%A1ko":MAILTO:mateja.jurecic@cptkrsko.si
END:VEVENT
END:VCALENDAR