BEGIN:VCALENDAR
VERSION:2.0
PRODID:-//CPT Krško - ECPv6.6.4.2//NONSGML v1.0//EN
CALSCALE:GREGORIAN
METHOD:PUBLISH
X-WR-CALNAME:CPT Krško
X-ORIGINAL-URL:https://www.cptkrsko.si
X-WR-CALDESC:Events for CPT Krško
REFRESH-INTERVAL;VALUE=DURATION:PT1H
X-Robots-Tag:noindex
X-PUBLISHED-TTL:PT1H
BEGIN:VTIMEZONE
TZID:Europe/Ljubljana
BEGIN:DAYLIGHT
TZOFFSETFROM:+0100
TZOFFSETTO:+0200
TZNAME:CEST
DTSTART:20220327T010000
END:DAYLIGHT
BEGIN:STANDARD
TZOFFSETFROM:+0200
TZOFFSETTO:+0100
TZNAME:CET
DTSTART:20221030T010000
END:STANDARD
END:VTIMEZONE
BEGIN:VEVENT
DTSTART;TZID=Europe/Ljubljana:20220601T110000
DTEND;TZID=Europe/Ljubljana:20220601T133000
DTSTAMP:20260422T041333
CREATED:20220513T095113Z
LAST-MODIFIED:20220704T085153Z
UID:5585-1654081200-1654090200@www.cptkrsko.si
SUMMARY:Webinar "Posebnosti pogodb o zaposlitvi s poudarkom na pogodbi po nastanku invalidnosti delavca" - NA VOLJO JE TUDI GRADIVO!
DESCRIPTION:NE PREZRITE – na voljo je tudi gradivo z delavnice. \nV sklopu aktivnosti na področju izvajanja celovitih podpornih storitev za potencialne podjetnike in podjetja v okviru Slovenskih poslovnih točk v organizaciji SPOT svetovanje Posavje – CPT Krško in izvajalca Območne obrtno-podjetniške zbornica Sevnica vas  vabimo na brezplačno delavnico  \n“Posebnosti pogodb o zaposlitvi s poudarkom na pogodbi  po nastanku invalidnosti delavca” \nv sredo\, 1. junija 2022\, od 11. do 13.30 ure\, preko spletne povezave\nPROGRAM DELAVNICE: \n Obvezne kadrovske evidence in predvidene spremembe \nPogodba o zaposlitvi za določen čas \n\nrazlogi za sklenitev pogodbe o zaposlitvi za določen čas\nomejitve pri sklepanju pogodbe o zaposlitvi za določen čas\ndoločitev sorazmernega dela letnega dopusta in regresa\nprenehanje pogodbe o zaposlitvi za določen čas\nodpravnina ob prenehanju pogodbe o zaposlitvi za določen čas\n\nPogodba o zaposlitvi s krajšim delovnim časom \nPogodba o zaposlitvi po nastanku invalidnosti \n\nsodelovanje delodajalca v invalidskem postopku\npravna sredstva zoper odločbo o invalidnosti\nmožnosti delodajalca po nastanku invalidnosti delavca\nzagotovitev ustreznega dela po nastanku invalidnosti\npogodba o zaposlitvi po nastanku invalidnosti\nnezmožnost zagotavljanja ustreznega dela\npostopek odpovedi pogodbe o zaposlitvi iz razloga invalidnosti\nkomisija za ugotovitev podlage za odpoved pogodbe o zaposlitvi\npostopek odpovedi pogodbe o zaposlitvi invalidu iz poslovnega razloga\npravice in obveznosti v primeru odpovedi iz poslovnega razloga ali razloga invalidnosti\nkvotni sistem zaposlovanja invalidov\n\nDiskusija in odgovori na vprašanja udeležencev \nPREDAVATELJICA:  Nina Ličar\, univ. dipl. pravnica\, je samostojna strokovna sodelavka pravnica pri Združenju delodajalcev obrti in podjetnikov Slovenije in je tudi predstavnica delodajalcev v delovnih in pogajalskih skupinah za aktualno delovnopravno zakonodajo ter ima dolgoletne izkušnje pri sodnem zastopanju delodajalcev na področju delovnega prava\, socialne varnosti in civilnega prava. Je tudi avtorica brezplačnega priročnika delovnopravnih vsebin »Delodajalci v obrti in podjetništvu sprašujejo«. \nDELAVNICA JE NAMENJENA malim in srednjim podjetjem\, samostojnim podjetnikom ter potencialnim podjetnikom\, predvsem iz Posavja. \nPRIJAVE:  Delavnica bo izvedena v spletni (virtualni) obliki\, zato je OBVEZNA elektronska prijava preko e-pošte\, ki jo pošljite na anita.pecnik@ozs.si\,  karmen.levak@cptkrsko.si ter mateja.jurecic@cptkrsko.si. V njej navedite ime in priimek udeleženca/slušatelja ter naziv in naslov vašega  podjetja (obratovalnice) in kontakte. Prijave sprejemamo do vključno 27.5.2022 oz. do zasedenosti kapacitet. \nPo prijavi boste prijavljeni na e naslov prejeli povezavo (link)\, preko katere se boste pridružili v spletno učilnico. \nVljudno vabljeni ! \n \nNaložbo sofinancirata Republika Slovenija in Evropska unija iz Evropskega sklada za regionalni razvoj 
URL:https://www.cptkrsko.si/dogodek/webinar-posebnosti-pogodb-o-zaposlitvi-s-poudarkom-na-pogodbi-po-nastanku-invalidnosti-delavca/
CATEGORIES:Aktualno,Delavnice
ATTACH;FMTTYPE=image/jpeg:https://www.cptkrsko.si/wp-content/uploads/rsz_1podpisovanje_pogodbe.jpg
END:VEVENT
END:VCALENDAR