BEGIN:VCALENDAR
VERSION:2.0
PRODID:-//CPT Krško - ECPv6.6.4.2//NONSGML v1.0//EN
CALSCALE:GREGORIAN
METHOD:PUBLISH
X-WR-CALNAME:CPT Krško
X-ORIGINAL-URL:https://www.cptkrsko.si
X-WR-CALDESC:Events for CPT Krško
REFRESH-INTERVAL;VALUE=DURATION:PT1H
X-Robots-Tag:noindex
X-PUBLISHED-TTL:PT1H
BEGIN:VTIMEZONE
TZID:Europe/Ljubljana
BEGIN:DAYLIGHT
TZOFFSETFROM:+0100
TZOFFSETTO:+0200
TZNAME:CEST
DTSTART:20230326T010000
END:DAYLIGHT
BEGIN:STANDARD
TZOFFSETFROM:+0200
TZOFFSETTO:+0100
TZNAME:CET
DTSTART:20231029T010000
END:STANDARD
END:VTIMEZONE
BEGIN:VEVENT
DTSTART;TZID=Europe/Ljubljana:20230518T160000
DTEND;TZID=Europe/Ljubljana:20230518T183000
DTSTAMP:20260421T163931
CREATED:20230424T081536Z
LAST-MODIFIED:20230503T125018Z
UID:6865-1684425600-1684434600@www.cptkrsko.si
SUMMARY:Kako uravnovesiti poslovne in zasebne obveznosti?
DESCRIPTION:Vsi imamo na voljo 24 ur na dan\, 7 dni v tednu in 365 dni v letu. Od vsakega od nas pa je odvisno\, kako bomo izkoristili dane ure\, dneve in leta za osebni razvoj\, za dosego zastavljenih poslovnih ciljev in za ustvarjanje družinskih in prijateljskih spominov. \nKako pogosto na dan se ustavimo\, da si vzamemo čas za globok vdih\, za zavesten požirek vode\, za pogled v nebo ali za pristen odgovor na ‘kako si’? Kako se zavedamo stresorjev in kako se soočamo z njimi? Kako uravnovesimo vse obveznosti in vseeno najdemo čas zase? \nSkrivnost življenja je namreč najti ravnovesje v vsem\, kar počnemo. \nVsebina:\n1. Izkustveno predavanje o uravnavanju poslovnih in zasebnih obveznosti ter kako obenem poskrbimo za svoje potrebe in izpolnimo svojo vizijo. \n2. Odgovorili si bomo na vprašanja: \n\nKako poskrbeti zase v množici poslovnih in zasebnih obveznostih ?\nAli poznam motilce fokusa in kako se soočam z vsakodnevnimi stresorji ?\nKako je zame osebno najbolj optimalno uravnovesiti poslovne in zasebne obveznosti ?\nKako pomembno je načrtovanje vseh aktivnosti in postavljanje poslovnih ciljev ?\n\n3. Pogledali si bomo naš miselni proces\, na kaj imamo vpliv\, kako komuniciramo v poslovnih odnosih in predvsem kako izražamo svoje potrebe in cilje. \nKaj pridobijo udeleženci?\n\nnekaj teoretičnih izhodišč delovanja naših možganov\npraktične napotke\, kako načrtujemo dnevne / tedenske / mesečne / letne cilje osnovne komunikacijske tehnike\npraktične napotke in primeri izražanja sebe v poslovnih in zasebnih odnosih\nudeleženci imajo priložnost aktivnega usmerjanja pogovora z lastnimi primeri\nvaje: globoko dihanje\, stres in kako se soočam z njim\, čuječnost\, načrtovanje\ngradivo z obravnavano vsebino\n\nO predavateljici:\nKatja Čelič\, je univ. dipl. soc. del s 15-letnimi izkušnjami dela na Centru za socialno delo\, večino na področju duševnega zdravja. Dodatno se je izobraževala in pridobila naziv družinske mediatorke\, sodne izvedenke za področje socialnega dela ter bila imenovana za sodnico porotnico v socialnih sporih. Je trenerka delavnic krepitve duševnega zdravja\, učenka astrologije\, Access bars practitioner in se udeležila NeuroChangeSolution programa dr. Joe Dispenza. Ustanoviteljica Zavoda za osebni razvoj in družinsko povezovanje STIK Krško\, kjer je v ospredju preventivno delo tako za posameznika kot za družino – predvsem učiti ljudi ali jih samo spomniti\, kako uravnavati skrb zase in skrb za druge ter učenje komunikacijskih veščin. \nVabljeni k prijavi na brezplačni dogodek\, ki bo potekal v ŽIVO\, v prostorih Podjetniškega inkubatorja Krško.\nIzpolnite spodnji obrazec.\n\n\n  \n\n\n\n\n\n\n\n\n\n\n Ime in priimek:\n \n \n Vaš GSM:\n\n \n Vaš E-naslov:\n \n \n Organizacija - podjetje:\n\n \nStrinjam se s politiko varovanja osebnih podatkov CPT Krško in dovoljujem Podjetniškemu inkubatorju Krško\, da moje podatke uporablja za namene pošiljanja e-novic in vabil na njihove dogodke.\n \n\n ×\n\n\n\n  \n  \n  \n 
URL:https://www.cptkrsko.si/dogodek/kako-uravnovesiti-poslovne-in-zasebne-obveznosti/
LOCATION:Podjetniški inkubator Krško\, Cesta krških žrtev 44\, Krško
CATEGORIES:Aktualno,Delavnice
ATTACH;FMTTYPE=image/jpeg:https://www.cptkrsko.si/wp-content/uploads/Naslovna-slika.jpg
ORGANIZER;CN="Podjetni%C5%A1ki inkubator Kr%C5%A1ko":MAILTO:inkubator@cptkrsko.si
END:VEVENT
END:VCALENDAR