BEGIN:VCALENDAR
VERSION:2.0
PRODID:-//CPT Krško - ECPv6.6.4.2//NONSGML v1.0//EN
CALSCALE:GREGORIAN
METHOD:PUBLISH
X-ORIGINAL-URL:https://www.cptkrsko.si
X-WR-CALDESC:Events for CPT Krško
REFRESH-INTERVAL;VALUE=DURATION:PT1H
X-Robots-Tag:noindex
X-PUBLISHED-TTL:PT1H
BEGIN:VTIMEZONE
TZID:Europe/Ljubljana
BEGIN:DAYLIGHT
TZOFFSETFROM:+0100
TZOFFSETTO:+0200
TZNAME:CEST
DTSTART:20230326T010000
END:DAYLIGHT
BEGIN:STANDARD
TZOFFSETFROM:+0200
TZOFFSETTO:+0100
TZNAME:CET
DTSTART:20231029T010000
END:STANDARD
END:VTIMEZONE
BEGIN:VEVENT
DTSTART;TZID=Europe/Ljubljana:20230314T130000
DTEND;TZID=Europe/Ljubljana:20230314T190000
DTSTAMP:20260421T134559
CREATED:20230301T104914Z
LAST-MODIFIED:20230310T082833Z
UID:6572-1678798800-1678820400@www.cptkrsko.si
SUMMARY:Snovanje in vodenje projektov
DESCRIPTION:SPOT Svetovanje Posavje – CPT Krško vas vljudno vabi na brezplačno podjetniško usposabljanje  \nSNOVANJE IN VODENJE PROJEKTOV\nv torek\, 14.3.2023\, od 13. do 19. ure\nVsebina: \nUsposabljanje bo razdeljeno na tri sklope. Najprej se bomo osredotočali na pridobitev sredstev za izvedbo projektov. Za uspešnost projektov je komunikacija ključnega pomena\, zato bomo poseben poudarek namenili komunikaciji v projektnem timu. V zadnjem delu bomo odgovorili na vprašanje\, kaj storiti\, ko je projektov ”preveč” in kako vzpostavimo okolje za upravljanje portfelja projektov. \nTerminska izvedba  \n\nKako financirati ideje in širitev podjetja | Urška Vračun | 13.00 – 14.50|tudi preko Zoom-a\n\nOPIS: Povratna in nepovratna sredstva v Sloveniji se že desetletje in več uporabljajo za ustvarjanje in spodbujanje inovativnih pa tudi že razvitih idej in podjetij. V Posavju se pridobivanje teh sredstev prek nacionalnih in evropskih razpisov izboljšuje\, vendar je še vedno daleč za povprečjem. Dejstvo je\, da obstajajo zelo različni načini pridobivanja finančnih sredstev za zagon ali širitev in bančno posojilo še zdaleč ni več edina možnost. Na seminarju bomo predstavili tako osnovne informacije kot tudi primere\, kaj so podjetja že storila s pridobljenimi sredstvi. \nMed drugim bomo povedali: \n\nkaj pomenijo izrazi razpis\, povratna\, nepovratna sredstva\, vavčerji in v kakšni obliki so na voljo;\nna kaj je treba misliti\, preden se odločite za sodelovanje na razpisih;\nkje spremljati razpise;\nkako se lotiti iskanja partnerjev;\npriprava dokumentacije;\nkaj sledi po odobritvi sredstev;\nkdaj je treba vračati sredstva idr.\n\nIzvajalka: Urška Vračun vodi podjetje Poslovno svetovanje Urška Vračun s.p. s sedežem v Podjetniškem inkubatorju Krško. Po 18 letih izkušenj v podjetništvu podpira mala in srednja podjetja pri izkoriščanju povratnih in nepovratnih sredstev\, razvoju lastne ideje\, vstopu na tuje trge\, spodbujanju prodaje\, oglaševanju in drugih aktivnostih\, za katera podjetja nimajo lastnega kadra ali ga želijo predati zunanjim izvajalcem. \n\nZ radovednostjo in poslušanjem do boljših poslovnih odnosov | Lea Grm | 15.00 – 16.50|\n\nOPIS: Kaj se zgodi\, če kdaj pa kdaj izklopimo gumb »avtopilot« in šele nato stopimo v komunikacijo? Ne veste\, bi pa poskusili? \nSi želite: \n\nlahkotnejše in jasne komunikacije v poslu\,\npravilno razumeti kaj poslovni partner\, stranka želita\,\npridobiti veščine za vzpostaviti dobrega odnosa s strankami in poslovnimi partnerji\,\nimeti prijetna in uspešna poslovna sodelovanja\,\nspoznati še druge podjetnike in deliti z njimi izkušnje?\n\nKaj boste spoznali: \n\nzakaj tolikokrat pride do nesporazumov in konfliktov v komunikaciji\,\nkako z radovednostjo in poslušanjem do boljših poslovnih odnos\,\nkako in kje bi uvedli določeno spremembo\, da boste lahkotneje\, povezano in učinkoviteje komunicirali s sodelavci in poslovnimi partnerji\,\norodja in tehnike\, ki jih lahko uporabite v komunikaciji takoj (s sodelavci\, strankami in poslovnimi partnerji).\n\nIzvajalka: Lea Grm je univ. dipl. sociologinja in certificirana NLP Master Coach (INLPTA)\, ki z delom coachinje sledi svojemu poslanstvu – te podpreti\, da si prisluhneš in se vodiš na svoji poti.  Lea ima 11 let izkušenj z delom na področju kadrovanja\, zadnje leto pa koraka po svoji samostojni poti. Izvaja individualne coachinge\, razvojne coachinge za podjetja ter delavnice tematik komunikacije\, nevrolingvističnega programiranja ter osebne rasti. V prostem času si najraje vzame čas za branje\, sprehod v gozd in ustvarjanje s svojima puncama. \n\nZakaj in kako do uspešne projektne pisarne | Gregor Androjna | 17.00 – 19.00 |tudi preko zooma\n\n(Kako zagotoviti vrednost portfelja projektov po CB-PMO modelu) \nRealizacija strategije organizacije je velik izziv\, ki ga obvladujemo z upravljanjem projektnega portfelja\, skozi projektno pisarno (PMO). Pri tem so ključnega pomena kompetence in kapacitete virov\,  kako smo usposobljeni in kako se znamo organizirati. Tako lahko rešujemo izzive kot so: projektov je preveč\, kadri so prezasedeni\, ne vemo kaj se dogaja\, kaj so prioritete\, gasimo samo nujno\, stres\, nezadovoljstvo\, konflikti ipd.. \nPogledali si bomo\, kako nam pri teh izzivih lahko pomaga metodologija\, PMO Guidebook. \n\nZakaj je projektna pisarna (PMO) ključen člen pri izvajanju strategije organizacije in\nkakšne so smernice najboljših praks v svetu.\nKakšne so pasti in vrednosti\, ki jih lahko PMO prinese za podjetje.\nKako se lotiti vzpostavitve\, izboljšanja ali reševanja PMO.\nKako se za to usposobiti in certificirati kot PMO ekspert.\n\nPrejeli boste CB-PMO Framework – okvir korakov do vzpostavitve PMO. \nPrejeli boste orodje za oceno zrelosti PMO. \nIzvajalec: Gregor Androjna pomaga organizacijam in posameznikom pri sistematičnem doseganju željene vrednosti projektov-portfeljev in strategij. Nudi storitve svetovanja\, coachinga in usposabljanja za organizacije\, ki želijo vzpostaviti ali izboljšati upravljanje portfelja projektov\, projektne pisarne. V ospredje postavlja poslovne potrebe in ljudi\, z uporabo edinstvene praktične metodologije za implementacijo projektnih pisarn – Impact Engine PMO (PMO Strategies) in CB-PMO GuideBook (PMO Global Institute) ter z usposabljanjem Certified Baseline PMO Consultant®. Ima 20 let bogatih izkušenj na področju projektnega managementa\, ki jih je pridobil na investicijah v energetiki ter naložbah v proizvodne kapacitete v energetiki in avtomobilski industriji. \n  \nUdeležba na delavnici je brezplačna in dostopna vsem\, ki se boste na delavnico prijavili. \nUsposabljanje bo izvedeno v živo in delno (prvo in tretje predavanje) tudi preko zoom-a. Udeleženci se prijavite na: karl.vertovsek@cptkrsko.si (sporočite ime\, priimek\, podjetje\, telefon\, elektronski naslov ter pripis v živo ali preko zoom-a)\, do vključno 14.3.2023 oz. do zasedbe omejenega števila udeležencev . \nVsi\, ki boste želeli spremljati preko zoom-a\, boste po e-pošti prejeli link – povezavo za spletni del. \n  \n \n  \n 
URL:https://www.cptkrsko.si/dogodek/snovanje-in-vodenje-projektov/
CATEGORIES:Aktualno,Delavnice,Poslovne piložnosti
ATTACH;FMTTYPE=image/jpeg:https://www.cptkrsko.si/wp-content/uploads/Zajeta-slika-2.jpg
ORGANIZER;CN="Podjetni%C5%A1ki inkubator Kr%C5%A1ko":MAILTO:inkubator@cptkrsko.si
END:VEVENT
BEGIN:VEVENT
DTSTART;TZID=Europe/Ljubljana:20230316T100000
DTEND;TZID=Europe/Ljubljana:20230316T120000
DTSTAMP:20260421T134559
CREATED:20230307T121919Z
LAST-MODIFIED:20230417T201235Z
UID:6606-1678960800-1678968000@www.cptkrsko.si
SUMMARY:Spletna delavnica na tematiko odpadkov in odpadne embalaže - NA VOLJO TUDI GRADIVO
DESCRIPTION:NE PREZRITE – Gradivo – embalaža  ter Gradivo – odpadki ! \nV okviru točke SPOT svetovanje Posavje organiziramo in vabimo na aktualno delavnico na tematiko \n» Odpadki in odpadna embalaža\, OBVEZNO poročanje o odpadkih za leto 2022 do 31. 3. 2023\, zakonodaja in prihajajoči trendi« \,\nki bo potekala v virtualni (spletni obliki)\n v četrtek\, 16. marca 2023\, ob 10. uri\nPROGRAM:\n\nV skladu z Uredbo o odpadkih morajo izvirni povzročitelji odpadkov\, zbiralci odpadkov in izvajalci obdelave odpadkov predložiti poročila o odpadkih za leto 2022 najpozneje do 31. marca 2023 .\nUdeležencem e-delavnice bodo podana jasna pojasnila v navedenih primerih\, katere obveznosti ima podjetje pri poročanju o odpadkih:\n\nizvirni povzročitelj (poročilo se lahko predloži pisno ali elektronsko)\,\nzbiralec ali obdelovalec odpadkov (poročilo lahko predloži samo elektronsko s pomočjo informacijskega sistema IS-odpadki\, ki temelji na pravilno izpolnjenih evidenčnih listih v aplikaciji IS-odpadki).\n\n\nUdeleženci spoznajo\, kaj pomeni »biti proizvajalec« in kaj »dati embalažo v promet« ter navesti obveznosti pri poročanju.\nPodana pojasnila in razlaga glede obveznega vodenja dokazov in poročanja o SUP uredbi\, ki obvezuje proizvajalce ali pridobitelje plastičnih izdelkov za enkratno uporabo\, da od 1. 1. 2023 vodijo dokazila in poročajo o teh izdelkih\, danih na trg v RS.\nPredstavljeni bodo prihajajoči trendi in sistemi ponovne uporabe\, ki bodo popolnoma spremenjeni način delovanja in sledljivosti embalaže do leta 2030 bo morala vsa embalaža\, ki bo danes na trgu dejansko reciklirana\, bo podjetje morala za embalaže vzpostaviti podobne postopke spremljanja embalažnih materialov\, ki jih poznajo elektro podjetje pri označevanju CE\, bo ponovna uporaba imela prednost in bo skoraj popolnoma spremenila poslovni model. \nOdgovori na vprašanja.\n\nPredavateljici:\nAntonija Božič Cerar (za področje embalaže in odpadne embalaže\, označevanje in poročanje ter prihajajoče obveznosti) je direktorica Službe za okolje\, podnebje in energijo pri GZS. Pri svojem delu se srečuje z okoljskimi politikami in zakonodajami EU v Sloveniji\, ki so tako pomembne za gospodarstvo tako s področja odpadkov\, s katerimi se srečujejo skoraj vse pravne osebe do različnih upravnih postopkov in obvladovanja teh vidikov z uvajanjem sistemov ravnanja z okoljem ali okoljskim označevanjem. .  proizvodov. Svoje delovne izkušnje je pridobila še na Eko skladu\, v jeseniški železarni in v Acroniju kot vodja oddelka za varstvo okolja. \nSimona Lesar (za poročanje o odpadkih) deluje v okviru Službe za okolje\, podnebje in energijo pri GZS. Je poznavalka in svetovalka gospodarstvu glede obveznosti v upravnih postopkih s področja okolja in prostorske zakonodaje\, od okoljevarstvenih dovoljenj\, do posameznih segmentov varstva okolja. Aktivno deluje na pripravi strokovnih vsebin in svetovanju za zeleni prehod gospodarstva v nizkoogljično trajnostno krožno gospodarstvo. Svoje delovne izkušnje je več kot dve desetletji pridobivala v gospodarstvu\, v svetovalnih podjetjih Sint in Sinet ter kot pooblaščenka za varstvo okolja v Steklarni Hrastnik. \nDelavnica je namenjena vsem odgovornim osebam za ravnanje z odpadki\, skrbnikom varstva okolja\, vodenjem in strokovnim sodelavcem v nabavi\, logistiki\, ekologiji\, razvoju in komerciali ter vodilnim osebam proizvodnih in storitvenih podjetij\, ki svoje produkte embalirate\, pridobite blaga\, ter tudi proizvajalcem in pridobiteljem. . .  servisne embalaže. \nprijave: \nUdeležba na delavnici je brezplačna z obvezno predhodno prijavo na e-naslov: karmen.levak@cptkrsko.si \,  mateja.jurecic@cptkrsko.si  \, posavska.gz@gzs.si oz. preko spletne prijavnice . \nPrijave sprejemamo do vključno torke\, 14. marca 2023. \nDelavnica bo izvedena v orodju Microsoft Teams . \nPrijavljeni boste na e-naslov prejeli gradivo in povezavo na spletno delavnico\, preko katere se boste na delavnico priključili v četrtek\, 16. marca 2023 ob 9.55 uri. \nVljudno vabljeni! \n \n 
URL:https://www.cptkrsko.si/dogodek/spletna-delavnica-odpadki-in-odpadna-embalaza-obvezno-porocanje-o-odpadkih-za-leto-2022-do-31-3-2023-zakonodaja-in-prihajajoci-trendi/
CATEGORIES:Aktualno,Delavnice
ATTACH;FMTTYPE=image/jpeg:https://www.cptkrsko.si/wp-content/uploads/rsz_375286186.jpg
ORGANIZER;CN="CPT Kr%C5%A1ko":MAILTO:mateja.jurecic@cptkrsko.si
END:VEVENT
END:VCALENDAR