BEGIN:VCALENDAR
VERSION:2.0
PRODID:-//CPT Krško - ECPv6.6.4.2//NONSGML v1.0//EN
CALSCALE:GREGORIAN
METHOD:PUBLISH
X-WR-CALNAME:CPT Krško
X-ORIGINAL-URL:https://www.cptkrsko.si
X-WR-CALDESC:Events for CPT Krško
REFRESH-INTERVAL;VALUE=DURATION:PT1H
X-Robots-Tag:noindex
X-PUBLISHED-TTL:PT1H
BEGIN:VTIMEZONE
TZID:Europe/Ljubljana
BEGIN:DAYLIGHT
TZOFFSETFROM:+0100
TZOFFSETTO:+0200
TZNAME:CEST
DTSTART:20260329T010000
END:DAYLIGHT
BEGIN:STANDARD
TZOFFSETFROM:+0200
TZOFFSETTO:+0100
TZNAME:CET
DTSTART:20261025T010000
END:STANDARD
END:VTIMEZONE
BEGIN:VEVENT
DTSTART;TZID=Europe/Ljubljana:20260411T070000
DTEND;TZID=Europe/Ljubljana:20260411T160000
DTSTAMP:20260420T211307
CREATED:20260324T093356Z
LAST-MODIFIED:20260324T111102Z
UID:11380-1775890800-1775923200@www.cptkrsko.si
SUMMARY:Dvodnevna delavnica robotike za osnovnošolce
DESCRIPTION:CPT Krško\, vas vljudno vabi na \nbrezplačno dvodnevno delavnico robotike za osnovnošolce\,\nki bo potekala v soboto 11.4. in soboto 18.4.2026\, v Podjetniškem inkubatorju Krško v času od 7. do 16. ure. \nProjekt »DIGITALNA PRIHODNOST: RAZVIJANJE DIGITALNIH SPRETNOSTI MLADIH« je namenjen krepitvi digitalnih kompetenc otrok in mladih v naši skupnosti. V okviru projekta želimo mladim zagotoviti praktična znanja\, ki jih potrebujejo za uspešno uporabo tehnologij in varno delovanje v digitalnem svetu. Dejavnosti se izvajajo v letih 2025 in 2026. Vse aktivnosti v okviru projekta so za udeležence brezplačne. S tem bomo mladim pomagali pri njihovem osebnem\, izobraževalnem in poklicnem razvoju. \nProjekt izvajajo Fakulteta za informacijske študije v Novem mestu (FIŠ)\, Razvojni center Novo mesto ter Fakulteta za uporabne družbene študije v Novi Gorici (FUDŠ). \nRazvojni center Novo mesto skupaj s Podjetniškim inkubatorjem Krško za osnovnošolce pripravlja kreativne in zabavne delavnice robotike ter programiranja\, kjer bodo otroci skozi igro spoznavali LEGO robotiko\, osvojili osnove bontona na spletu ter varne uporabe interneta. Brezplačna dvodnevna delavnica se bo odvijale v Podjetniškem inkubatorju Krško na dve zaporedni soboti v terminu 11. 4. in 18. 4. 2026. \nVeč informacij in možnost prijave: Brezplačna delavnica robotike za otroke \nFakulteta za informacijske študije pripravlja za dijake in študente interaktivne delavnice s področja računalništva\, umetne inteligence in digitalne varnosti\, s čimer bodo mladi pridobili ključna digitalna znanja\, pomembna za nadaljnje šolanje in poklicno pot. Več informacij o delavnicah: Brezplačne delavnice Programiranje in uporaba računalniških tehnologij \nFakulteta za uporabne družbene študije pa bo izvajala delavnice\, namenjene razvijanju kritičnega mišljenja\, digitalne komunikacije\, medijske pismenosti ter varni in odgovorni rabi spleta. \nProjekt DIGITALNA PRIHODNOST: RAZVIJANJE DIGITALNIH SPRETNOSTI MLADIH je financiran s strani Ministrstva za digitalno preobrazbo. #digiSI \nDogodek je brezplačen z obvezno predhodno prijavo! \n \n 
URL:https://www.cptkrsko.si/dogodek/kreativne-in-zabavne-delavnice-robotike-ter-programiranja/
LOCATION:Podjetniški inkubator Krško\, Cesta krških žrtev 44\, Krško
CATEGORIES:Aktualno,Delavnice
ATTACH;FMTTYPE=image/png:https://www.cptkrsko.si/wp-content/uploads/DP-grafika_1200x628_Krsko-copy.png
ORGANIZER;CN="Podjetni%C5%A1ki inkubator Kr%C5%A1ko":MAILTO:inkubator@cptkrsko.si
END:VEVENT
END:VCALENDAR